BEGIN:VCALENDAR
VERSION:2.0
PRODID:-//Sophicity/Tribune/Unadilla, GA
BEGIN:VEVENT
DTSTAMP:20260425T211113Z
UID:74693010-786f-4f23-ad9d-f95a9d7e71b7-4667
DTSTART:20191128T170000Z
DTEND:20191128T170000Z
CLASS:PUBLIC
SUMMARY:Thanksgiving Day - City Hall Closed
END:VEVENT
END:VCALENDAR
